BEGIN:VCALENDAR
VERSION:2.0
PRODID:-//National Center for High Performance and Distributed Computing - ECPv4.9.5//NONSGML v1.0//EN
CALSCALE:GREGORIAN
METHOD:PUBLISH
X-WR-CALNAME:National Center for High Performance and Distributed Computing
X-ORIGINAL-URL:https://nchdc.acad.bg
X-WR-CALDESC:Events for National Center for High Performance and Distributed Computing
BEGIN:VTIMEZONE
TZID:"Europe/Sofia"
BEGIN:DAYLIGHT
TZOFFSETFROM:+0200
TZOFFSETTO:+0300
TZNAME:EEST
DTSTART:20210328T010000
END:DAYLIGHT
BEGIN:STANDARD
TZOFFSETFROM:+0300
TZOFFSETTO:+0200
TZNAME:EET
DTSTART:20211031T010000
END:STANDARD
END:VTIMEZONE
BEGIN:VEVENT
DTSTART;TZID="Europe/Sofia":20211026T140000
DTEND;TZID="Europe/Sofia":20211026T170000
DTSTAMP:20260422T122444
CREATED:20211019T080041Z
LAST-MODIFIED:20211119T091801Z
UID:4578-1635256800-1635267600@nchdc.acad.bg
SUMMARY:Обучителен семинар "Пресмятания с квантови отгряващи компютри"\, 26 и 28 октомври 2021
DESCRIPTION:Две лекции върху Квантови отгряващи компютри за решаване на оптимизационни задачи ще изнесе на 26 и 28 октомври 2021 от 14:00 ч. д-р Христо Джиджев\, изследовател в „Център за върхови постижения по Информатика и информационни и комуникационни технологии“.\nПовече информация за уебинарите може да намерите тук.\n
URL:https://nchdc.acad.bg/event/%d0%be%d0%b1%d1%83%d1%87%d0%b8%d1%82%d0%b5%d0%bb%d0%b5%d0%bd-%d1%81%d0%b5%d0%bc%d0%b8%d0%bd%d0%b0%d1%80-%d0%bf%d1%80%d0%b5%d1%81%d0%bc%d1%8f%d1%82%d0%b0%d0%bd%d0%b8%d1%8f-%d1%81-%d0%ba%d0%b2%d0%b0/
END:VEVENT
END:VCALENDAR