BEGIN:VCALENDAR
VERSION:2.0
PRODID:-//National Center for High Performance and Distributed Computing - ECPv4.9.5//NONSGML v1.0//EN
CALSCALE:GREGORIAN
METHOD:PUBLISH
X-WR-CALNAME:National Center for High Performance and Distributed Computing
X-ORIGINAL-URL:https://nchdc.acad.bg
X-WR-CALDESC:Events for National Center for High Performance and Distributed Computing
BEGIN:VTIMEZONE
TZID:"Europe/Sofia"
BEGIN:DAYLIGHT
TZOFFSETFROM:+0200
TZOFFSETTO:+0300
TZNAME:EEST
DTSTART:20210328T010000
END:DAYLIGHT
BEGIN:STANDARD
TZOFFSETFROM:+0300
TZOFFSETTO:+0200
TZNAME:EET
DTSTART:20211031T010000
END:STANDARD
END:VTIMEZONE
BEGIN:VEVENT
DTSTART;VALUE=DATE:20210920
DTEND;VALUE=DATE:20210925
DTSTAMP:20260422T135020
CREATED:20210907T151618Z
LAST-MODIFIED:20210907T151618Z
UID:4499-1632096000-1632527999@nchdc.acad.bg
SUMMARY:PRACE есенно обучение 2021 (онлайн): Основи на биомолекулярните симулации и виртуалното разработване на лекарства\, 20-24 септември 2021
DESCRIPTION:HPC AUTUMN SCHOOL 2021: „Основи на биомолекулното моделиране и симулации за приложни изследвания и виртуално разработване на лекарства“\, организирано от BioExcel Center of Excellence\, STFC Daresbury Laboratory\, NCSA България и Софийския университет и в партньорство с AstraZeneca и NostrumBiodiscovery\, ще се проведе онлайн от 20 до 24 септември 2021. \nЕдноседмичното обучение ще предостави въведение в основите на съвременните методи за биомолекулни симулации – молекулярна динамика (MD)\, 3D QSAR\, интегративно моделиране\, свободна енергия и хибридни QM/MM изчисления. Ще бъдат представени широко използвани софтуерни приложения (GROMACS\, HADDOCK\, PMX\, ChemShell) и ще бъде демонстрирано използването им върху HPC ресурси. \nПрограма е насочена към приложни учени\, които имат малък опит с изчислителните методологии и високопроизводителните изчисления (HPC). Подходяща е за млади изследователи (следдипломни и докторанти) с опит в естествените науки и по-специално фармация\, биохимия и биофизика. Участниците от Централна и Източна Европа са добре дошли. \nПовече информация\, програма и регистрация: тук. \n
URL:https://nchdc.acad.bg/event/prace-%d0%b5%d1%81%d0%b5%d0%bd%d0%bd%d0%be-%d0%be%d0%b1%d1%83%d1%87%d0%b5%d0%bd%d0%b8%d0%b5-2021-%d0%be%d0%bd%d0%bb%d0%b0%d0%b9%d0%bd-%d0%be%d1%81%d0%bd%d0%be%d0%b2%d0%b8-%d0%bd%d0%b0-%d0%b1%d0%b8/
END:VEVENT
BEGIN:VEVENT
DTSTART;VALUE=DATE:20210923
DTEND;VALUE=DATE:20210926
DTSTAMP:20260422T135020
CREATED:20210907T151900Z
LAST-MODIFIED:20210907T151900Z
UID:4501-1632355200-1632614399@nchdc.acad.bg
SUMMARY:Международна конференция по дигитално представяне и опазване на културното и научното наследство - DiPP2021\, 23-25 Септември 2021
DESCRIPTION:От 23ти до 25ти септември 2021г. ще се проведе Единадесетата международна конференция по цифрово представяне и опазване на културното и научното наследство – DiPP2021. Основна цел да представи иновативни резултати\, изследователски проекти и приложения в областта на дигитализацията\, документацията\, архивирането\, представянето и опазването на глобалното и националното материално и нематериално културно и научно наследство . \nDiPP2021 се организира под патронажа на ЮНЕСКО и община Бургас. \nПовече информация може да бъде намерена на сайта. \n
URL:https://nchdc.acad.bg/event/%d0%bc%d0%b5%d0%b6%d0%b4%d1%83%d0%bd%d0%b0%d1%80%d0%be%d0%b4%d0%bd%d0%b0-%d0%ba%d0%be%d0%bd%d1%84%d0%b5%d1%80%d0%b5%d0%bd%d1%86%d0%b8%d1%8f-%d0%bf%d0%be-%d0%b4%d0%b8%d0%b3%d0%b8%d1%82%d0%b0%d0%bb/
END:VEVENT
BEGIN:VEVENT
DTSTART;TZID="Europe/Sofia":20210923T150000
DTEND;TZID="Europe/Sofia":20210923T173000
DTSTAMP:20260422T135020
CREATED:20210907T113157Z
LAST-MODIFIED:20210907T121324Z
UID:4469-1632409200-1632418200@nchdc.acad.bg
SUMMARY:Национален Информационен Ден в областта на отворената наука\, 23 септември 2021
DESCRIPTION:На 23 септември 2021 за 12-та поредна година ще се проведе традиционния Национален Информационен Ден: Отворена наука\, Отворени данни\, Отворен достъп\, Български облак за отворена наука. \nСпецифични теми на “12-ти Информационен ден: \n\nЕвропейски Облак за Отворена Наука (EOSC)\nНационални инициативи за отворена наука\nИзграждане на хранилища с отворен достъп\nХармонизация на националното и европейското законодателство и практики\nОбучение за изграждане и управление на научни цифрови хранилища и оперативна съвместимост\n\nУчастието в информационния ден може да бъде присъствено (на място в Регионална библиотека „П. Яворов“\, ул. „Оборище“\, № 49-51\, Бургас) или виртуално (онлайн детайлите за връзка ще бъдат изпратени по електронна поща на регистрираните участници). Повече информация може да бъде намерена на сайта. \nОрганизатори: ИМИ-БАН и ИИКТ-БАН \nЛинк към програмата: тук. \nЛинк за регистрация: тук. \n
URL:https://nchdc.acad.bg/event/12-%d1%82%d0%b8-%d0%bd%d0%b0%d1%86%d0%b8%d0%be%d0%bd%d0%b0%d0%bb%d0%b5%d0%bd-%d0%b8%d0%bd%d1%84%d0%be%d1%80%d0%bc%d0%b0%d1%86%d0%b8%d0%be%d0%bd%d0%b5%d0%bd-%d0%b4%d0%b5%d0%bd-23-09-2021/
END:VEVENT
END:VCALENDAR